BEGIN:VCALENDAR
VERSION:2.0
PRODID:-//wp-events-plugin.com//7.2.3.1//EN
BEGIN:VEVENT
UID:989@kjr-ku.de
DTSTART:20261017T130000Z
DTEND:20261017T150000Z
DTSTAMP:20260309T075614Z
URL:https://www.kjr-ku.de/veranstaltungen/aepfel-auflesen-pressen-und-verk
 osten/
SUMMARY:Äpfel auflesen\, pressen und verkosten
DESCRIPTION:Es werden Äpfel am Radweg und Vereinsgarten aufgelesen\, dann 
 gepresst und verkostet.Kleine Körbe mitbringen zum auflesen der Äpfel\, 
 dann im Vereinsgarten pressen und verkosten. Wer mag kann sich Saft mit he
 im nehmen.\nFür: 2-15 Teilnehmer\nKosten: keine\nMitzubringen: leere\, s
 aubere Flaschen\nOrt: Pflanzgarten Grünbauerstraße in Katschenreuth\nMeh
 r Infos: bei Rosemarie Hübner\nVeranstalter: Garten- und Blumenfreunde Ka
 tschenreuth-Frankenberg e.V.\nAnmeldung: Anmeldung bei Rosemarie Hübner p
 er Email oder unter Telefon 09221/871-54\n\n
CATEGORIES:Events und Veranstaltungen
END:VEVENT
END:VCALENDAR