BEGIN:VCALENDAR
VERSION:2.0
PRODID:-//wp-events-plugin.com//7.2.3.1//EN
BEGIN:VEVENT
UID:988@kjr-ku.de
DTSTART:20260919T130000Z
DTEND:20260919T150000Z
DTSTAMP:20260309T075115Z
URL:https://www.kjr-ku.de/veranstaltungen/ende-kinderwettbewerb-mit-famili
 ennachmittag/
SUMMARY:Ende Kinderwettbewerb mit Familiennachmittag
DESCRIPTION:Ende des Kinderwettbewerbs mit Preisverleihung\, anschließend 
 gemütliches Zusammensein bei vielen schönen Bastelaktionen.\nAn diesem N
 achmittag werden die Preise vergeben für die schönsten Zwiebel und jedes
  Kind das mitgemacht hat bekommt eine Urkunde und Preis\, die ersten drei 
 dürfen sich zwei Preise aussuchen. Es gibt Bratwurst vom Grill\, für wei
 tere Zutaten sorgt der Verein.\nFür: 2-15 Teilnehmer\nKosten: 5\,00 Euro\
 nMitzubringen: Akkuschrauber\, Pinsel\nOrt: Pflanzgarten Grünbauerstraß
 e in Katschenreuth\nMehr Infos: bei Rosemarie Hübner\nVeranstalter: Garte
 n- und Blumenfreunde Katschenreuth-Frankenberg e.V.\nAnmeldung: Anmeldung 
 bei Rosemarie Hübner per Email oder unter Telefon 09221/871-54\n\n
CATEGORIES:Events und Veranstaltungen
END:VEVENT
END:VCALENDAR