BEGIN:VCALENDAR
VERSION:2.0
PRODID:-//wp-events-plugin.com//7.2.3.1//EN
BEGIN:VEVENT
UID:987@kjr-ku.de
DTSTART:20260814T120000Z
DTEND:20260814T120000Z
DTSTAMP:20260309T072554Z
URL:https://www.kjr-ku.de/veranstaltungen/ferienprogramm/
SUMMARY:Ferienprogramm
DESCRIPTION:Wir basteln mit den Kindern Klangspiele aus Stöcken und gestal
 ten Gartenstecken aus Holz\, die bunt angemalt werden\, mit Bändern verzi
 eren und fertig ist der bunte Gartenstecker.\nEs wäre schön\, wenn Elter
 n den Kindern etwas zu trinken mitgeben und auch gerne mitkommen dürfen\n
 Für: 2-15 Teilnehmer\nKosten: 5\,00 Euro\nMitzubringen: Akkuschrauber\, 
 Pinsel\nOrt: Pflanzgarten Grünbauerstraße in Katschenreuth\nMehr Infos: 
 bei Rosemarie Hübner\nVeranstalter: Garten- und Blumenfreunde Katschenreu
 th-Frankenberg e.V.\nAnmeldung: Anmeldung bei Rosemarie Hübner per Email 
 oder unter Telefon 09221/871-54\n\n
CATEGORIES:Events und Veranstaltungen
END:VEVENT
END:VCALENDAR