BEGIN:VCALENDAR
VERSION:2.0
PRODID:-//wp-events-plugin.com//7.2.3.1//EN
BEGIN:VEVENT
UID:990@kjr-ku.de
DTSTART:20261031T160000Z
DTEND:20261031T180000Z
DTSTAMP:20260309T080029Z
URL:https://www.kjr-ku.de/veranstaltungen/halloween-im-vereinsgarten-mit-l
 agerfeuer-und-grusel/
SUMMARY:Halloween im Vereinsgarten mit Lagerfeuer und Grusel
DESCRIPTION:Lagerfeuer im Vereinsgarten\, mit Grusel im Garten. Bitte gerne
  verkleiden. Eltern dürfen gerne dabei sein.\nFür: 2-15 Teilnehmer\nKost
 en: keine\nOrt: Vereinsgarten\nMehr Infos: bei Rosemarie Hübner\nVeransta
 lter: Garten- und Blumenfreunde Katschenreuth-Frankenberg e.V.\nAnmeldung:
  Anmeldung bei Rosemarie Hübner per Email oder unter Telefon 09221/871-54
 \n\n
CATEGORIES:Events und Veranstaltungen
END:VEVENT
END:VCALENDAR