BEGIN:VCALENDAR
VERSION:2.0
PRODID:-//wp-events-plugin.com//7.2.3.1//EN
BEGIN:VEVENT
UID:986@kjr-ku.de
DTSTART:20260516T130000Z
DTEND:20260516T150000Z
DTSTAMP:20260309T065350Z
URL:https://www.kjr-ku.de/veranstaltungen/kinderwettbewerb-auftakt/
SUMMARY:Kinderwettbewerb Auftakt
DESCRIPTION:Zwiebeln zum mitnehmen und groß ziehen bis zum Ende (19.09.202
 6) des Wettbewerbs.  Hier dürfen Kinder lernen\, wie Zwiebeln im Garten 
 wachsen und was man damit macht.Nisthilfen für Vögel bauen oder etwas an
 deres. Die Nisthilfen für Vögel werden aus Blumentöpfen\, Hasendraht un
 d Nistmaterial gefertigt\,wo sich die Vögel ihr Nest polstern können. Ei
 nige Vogelarten brüten 2x im Jahr.\nFür das leibliche Wohl ist gesorgt m
 it Getränken und Bratwurst vor Ort.\nFür: 2-15 Teilnehmer\nKosten: 2\,00
  Euro\nOrt: Pflanzgarten Grünbauerstraße in Katschenreuth\nMehr Infos: b
 ei Rosemarie Hübner\nVeranstalter: Garten- und Blumenfreunde Katschenreut
 h-Frankenberg e.V.\nAnmeldung: Anmeldung bei Rosemarie Hübner per Email o
 der unter Telefon 09221/871-54\n\n
CATEGORIES:Events und Veranstaltungen
END:VEVENT
END:VCALENDAR