BEGIN:VCALENDAR
VERSION:2.0
PRODID:-//wp-events-plugin.com//7.2.3.1//EN
BEGIN:VEVENT
UID:923@kjr-ku.de
DTSTART:20260712T093000Z
DTEND:20260712T133000Z
DTSTAMP:20251021T095549Z
URL:https://www.kjr-ku.de/veranstaltungen/landkreis-spielmobil-in-kasendor
 f/
SUMMARY:Landkreis-Spielmobil in Kasendorf
DESCRIPTION:Wir sind bei der Kirchweih in Kasendorf mit unserem Landkreis-S
 pielmobil. Bei schlechtem Wetter gibt es eine Ausweichmöglichkeit.\nFreu 
 Dich auf jede Menge Spielgeräte\, Bastel- und Mitmachaktionen und lauter 
 Äktschn! Es erwartet Dich jede Menge Spaß und Abwechslung\, andere nette
  Kinder und viele nette Betreuer. Komm einfach vorbei und sei dabei! \nF
 ür: Kinder von 6 - 12 Jahren\nKosten: Keine\nOrt: Rathausplatz Kasendorf\
 nMehr Infos: auf unserer Landkreis-Spielmobil-Seite! \nVeranstalter: Mark
 t Kasendorf\nAnmeldung: Nicht nötig!\n\n
CATEGORIES:Landkreis-Spielmobil
END:VEVENT
END:VCALENDAR