BEGIN:VCALENDAR
VERSION:2.0
PRODID:-//wp-events-plugin.com//7.2.3.1//EN
BEGIN:VEVENT
UID:962@kjr-ku.de
DTSTART:20260816T130000Z
DTEND:20260816T160000Z
DTSTAMP:20260112T073853Z
URL:https://www.kjr-ku.de/veranstaltungen/landkreis-spielmobil-in-katschen
 reuth/
SUMMARY:Landkreis-Spielmobil in Katschenreuth
DESCRIPTION:Wir sind in Katschenreuth mit unserem Landkreis-Spielmobil. Bei
  schlechtem Wetter gibt es keine Ausweichmöglichkeit.\nFreu Dich auf jede
  Menge Spielgeräte\, Bastel- und Mitmachaktionen und lauter Äktschn! Es 
 erwartet Dich jede Menge Spaß und Abwechslung\, andere nette Kinder und v
 iele nette Betreuer. Komm einfach vorbei und sei dabei! \nFür: Kinder vo
 n 6 - 12 Jahren\nKosten: Keine\nOrt: Sportplatz Katschenreuth\nMehr Infos:
  auf unserer Landkreis-Spielmobil-Seite! \nVeranstalter: VfR Katschenreut
 h\nAnmeldung: Nicht nötig!\n\n
CATEGORIES:Landkreis-Spielmobil
END:VEVENT
END:VCALENDAR