BEGIN:VCALENDAR
VERSION:2.0
PRODID:-//wp-events-plugin.com//7.2.3.1//EN
BEGIN:VEVENT
UID:1023@kjr-ku.de
DTSTART;VALUE=DATE:20260717
DTEND;VALUE=DATE:20260719
DTSTAMP:20260420T062112Z
URL:https://www.kjr-ku.de/veranstaltungen/uebung-zusammen-mit-der-seg-tech
 nik-und-sicherheit-mit-uebernachtung-in-unsererdienststelle/
SUMMARY:"Übung" zusammen mit der SEG Technik und Sicherheit mit Übernacht
 ung in unserer Dienststelle
DESCRIPTION:"Übung" zusammen mit der SEG Technik und Sicherheit\, anschlie
 ßend Übernachtung in unserer Dienststelle\, Verpflegung: Abendessen und 
 Frühstück.\n\nAnmeldeschluss 30.06.2026\, Übernachtung nur wer möchte.
 \n\nOrt: Augustiner Straße 5\, 95326 Kulmbach\n\nAlter: Ab 6 Jahren\n\nKo
 sten: 5 Euro\n\nVeranstalter: Malteser Jugend Bayern\, Kulmbach\n\nMehr In
 fos und Anmeldung: bei Eva Eck unter Telefon 0170/933-261-3 oder per Emai
 l
CATEGORIES:Freizeiten und Zeltlager
END:VEVENT
END:VCALENDAR