BEGIN:VCALENDAR
VERSION:2.0
PRODID:-//wp-events-plugin.com//7.2.3.1//EN
BEGIN:VEVENT
UID:1024@kjr-ku.de
DTSTART;VALUE=DATE:20260802
DTEND;VALUE=DATE:20260810
DTSTAMP:20260421T130806Z
URL:https://www.kjr-ku.de/veranstaltungen/zeltlager-der-bayerischen-siedle
 rjugend/
SUMMARY:Zeltlager der Bayerischen Siedlerjugend
DESCRIPTION:Spaß\, Sport\, Spiel\, Spannung und Natur erwarten dich im Jug
 endzeltlager der Bayerischen Siedlerjugend.\n\nOrt: Mistelgau im Landkreis
  Bayreuth\n\nAlter: Kinder und Jugendliche im Alter von 8-15 Jahren.\n\nKo
 sten: 200 Euro für Mitglieder im Verband Wohneigentum\, 250 Euro für Nic
 htmitglieder\n\nAnsprechpartnerin: Christiane Grassl\n\nVeranstalter: Baye
 rische Siedlerjugend - Verband Wohneigentum\n\nMehr Infos und Anmeldung un
 ter: Telefon: 0961/422-881-6 oder  per Email
CATEGORIES:Freizeiten und Zeltlager
END:VEVENT
END:VCALENDAR